BEGIN:VCALENDAR
VERSION:2.0
PRODID:-//COFACE Families Europe - ECPv6.15.20//NONSGML v1.0//EN
CALSCALE:GREGORIAN
METHOD:PUBLISH
X-WR-CALNAME:COFACE Families Europe
X-ORIGINAL-URL:https://coface-eu.org
X-WR-CALDESC:Events for COFACE Families Europe
REFRESH-INTERVAL;VALUE=DURATION:PT1H
X-Robots-Tag:noindex
X-PUBLISHED-TTL:PT1H
BEGIN:VTIMEZONE
TZID:Europe/Brussels
BEGIN:DAYLIGHT
TZOFFSETFROM:+0100
TZOFFSETTO:+0200
TZNAME:CEST
DTSTART:20220327T010000
END:DAYLIGHT
BEGIN:STANDARD
TZOFFSETFROM:+0200
TZOFFSETTO:+0100
TZNAME:CET
DTSTART:20221030T010000
END:STANDARD
BEGIN:DAYLIGHT
TZOFFSETFROM:+0100
TZOFFSETTO:+0200
TZNAME:CEST
DTSTART:20230326T010000
END:DAYLIGHT
BEGIN:STANDARD
TZOFFSETFROM:+0200
TZOFFSETTO:+0100
TZNAME:CET
DTSTART:20231029T010000
END:STANDARD
BEGIN:DAYLIGHT
TZOFFSETFROM:+0100
TZOFFSETTO:+0200
TZNAME:CEST
DTSTART:20240331T010000
END:DAYLIGHT
BEGIN:STANDARD
TZOFFSETFROM:+0200
TZOFFSETTO:+0100
TZNAME:CET
DTSTART:20241027T010000
END:STANDARD
END:VTIMEZONE
BEGIN:VEVENT
DTSTART;TZID=Europe/Brussels:20230919T103000
DTEND;TZID=Europe/Brussels:20230919T123000
DTSTAMP:20260426T005109
CREATED:20230703T072227Z
LAST-MODIFIED:20230814T091141Z
UID:21048-1695119400-1695126600@coface-eu.org
SUMMARY:COFACE working group on education for social rights
DESCRIPTION:COFACE working group on education for social rights\n\n19th September 10.30-12.30 CET \nREGISTER HERE \nThis online working group meeting is being organised in the context of the L.I.N.K. education programme\, a joint initiative of COFACE Families Europe and KMOP education hub\, which is part of the European Family Lab launched in 2020. \nThe meeting is aiming to create an informal and collaborative space\, serving as an education hub\, where members from different countries can learn from one another\, exchange ideas\, build partnerships and explore ways to improve and promote their education practices. \nThe working group will bring together committed professionals and staff in the COFACE network who are actively involved or interested in education programmes within their organisations\, aiming to support both families and professionals through upskilling and life-long learning. REGISTER HERE \nFor further information\, contact Beybin Elvin Tunç\, Education Programme Coordinator btunc@coface-eu.org  \n________________________ \nBackground about L.I.N.K.\nL.I.N.K. (Learning and Innovating through New Knowledge) focuses on key social challenges of our times. L.I.N.K. educational tools and courses of are based on values of human rights\, non-discrimination\, gender equality\, social inclusion\, diversity\, empowerment\, and intergenerational solidarity\, and are designed for contributing to addressing important challenges that modern societies face. \nThe L.I.N.K. programme is a result of the collaboration between COFACE Families Europe and KMOP Education Hub. COFACE offers the programme its extensive knowledge on issues related to families at the European level\, while KMOP\, based on its long-term experience in actions supporting children and young people\, as well as its knowledge in educational planning\, provides documented and modern educational methods. \nL.I.N.K reflects the joint goal of COFACE and KMOP to create a modern educational center aiming at supporting education and lifelong learning for a range of challenges\, in which families\, professionals and modern societies in general need support and continuous guidance. \nIn general\, the goal of L.I.N.K. is to develop learning courses and tools. The courses may follow asynchronous\, synchronous\, and blended e-learning methods\, through all the series of educational modules that are developed.  These educational modules provide learners with new skills and solutions to societal challenges affecting families of today\, supporting also the achievement of the Sustainable Development Goals and the European Pillar of Social Rights. \nMore here.
URL:https://coface-eu.org/event/coface-working-group-on-education-for-social-rights/
ATTACH;FMTTYPE=image/png:https://coface-eu.org/wp-content/uploads/2022/11/European-Family-Lab-visual_2022-01.png
END:VEVENT
END:VCALENDAR