BEGIN:VCALENDAR
VERSION:2.0
PRODID:-//COFACE Families Europe - ECPv6.15.20//NONSGML v1.0//EN
CALSCALE:GREGORIAN
METHOD:PUBLISH
X-ORIGINAL-URL:https://coface-eu.org
X-WR-CALDESC:Events for COFACE Families Europe
REFRESH-INTERVAL;VALUE=DURATION:PT1H
X-Robots-Tag:noindex
X-PUBLISHED-TTL:PT1H
BEGIN:VTIMEZONE
TZID:Europe/Brussels
BEGIN:DAYLIGHT
TZOFFSETFROM:+0100
TZOFFSETTO:+0200
TZNAME:CEST
DTSTART:20220327T010000
END:DAYLIGHT
BEGIN:STANDARD
TZOFFSETFROM:+0200
TZOFFSETTO:+0100
TZNAME:CET
DTSTART:20221030T010000
END:STANDARD
BEGIN:DAYLIGHT
TZOFFSETFROM:+0100
TZOFFSETTO:+0200
TZNAME:CEST
DTSTART:20230326T010000
END:DAYLIGHT
BEGIN:STANDARD
TZOFFSETFROM:+0200
TZOFFSETTO:+0100
TZNAME:CET
DTSTART:20231029T010000
END:STANDARD
BEGIN:DAYLIGHT
TZOFFSETFROM:+0100
TZOFFSETTO:+0200
TZNAME:CEST
DTSTART:20240331T010000
END:DAYLIGHT
BEGIN:STANDARD
TZOFFSETFROM:+0200
TZOFFSETTO:+0100
TZNAME:CET
DTSTART:20241027T010000
END:STANDARD
END:VTIMEZONE
BEGIN:VEVENT
DTSTART;TZID=Europe/Brussels:20231024T093000
DTEND;TZID=Europe/Brussels:20231024T110000
DTSTAMP:20260425T231844
CREATED:20230921T130109Z
LAST-MODIFIED:20231024T090812Z
UID:21252-1698139800-1698145200@coface-eu.org
SUMMARY:School Bullying Management – Effective Skills for Educators
DESCRIPTION:School Bullying Management – Effective Skills for Educators.\nA benefit for Children\, Families and Schools\nDate\n24th October 2023 from 9.30-11.00 CET \nTitle\nSchool Bullying Management – Effective Skills for Educators.\nA benefit for Children\, Families and Schools \nSpeakers \n\nDr Antonia Torrens – Educational psychologist – Creator of the Live Without Project in Greece\, and the recently launched e-learning course on school bullying management.\nIrene Pateraki\, Pedagogical and Monitoring Manager\, Central Support Service for the European School Education Platform\n\nDescription\nThis breakfast byte webinar is being organised in the run-up to the 2023 UNESCO international day against bullying\, as a contribution to awareness-raising and capacity-building around the topic of bullying. Dr Torrens will kick off the webinar with a deep dive into the LINK e-learning course focusing on school bullying prevention and management\, which aims to provide effective skills for teachers mainly\, but also for all professionals in any educational setting who work with children\, adolescents\, and their families. The course follows an interactive approach to ensure each thematic unit is fully understood and can be implemented successfully.\nIrene Pateraki from the European School Education Platform will be invited to respond to this presentation from their perspective. More specifically she will talk about the professional development initiatives organised on the theme of bullying in the European School Education Platform taking into account the European Commission recommendations/frameworks and making specific reference to the Pathways to school success and the LifeComp\, as well as reference to some key eTwinning projects on the topic of bullying. \nFurther information \nLINK programme\nPathways to school success\nLifeComp \nWebinar resources shared by speakers and participants \nProgramme used in Estonian kindergartens and schools which is originally Danish\nFUSE programme developed by University College Dublin in Ireland\neTwinning schools factsheet \n_______________ \nBackground\nAfter two great years of connecting with the COFACE Family Lab community through regular breakfast byte webinars looking at different types of supports to families (a support service\, a campaign\, a policy\, a project\, and more)\, we are organizing more breakfast bytes in 2023.With these breakfast bytes\, we aim to increase critical thinking and understanding of different family support systems. The target group of the webinars is especially professionals working with families and children but is open to all (researchers\, policy-makers\, teachers\, health workers\, families\, and more). It is more important than ever to connect professionals through transnational exchanges for cross-border mutual support and care. \n 
URL:https://coface-eu.org/event/school-bullying-management-effective-skills-for-educators/
ATTACH;FMTTYPE=image/png:https://coface-eu.org/wp-content/uploads/2023/09/Breakfast-Byte-24th-October-2023.png
END:VEVENT
END:VCALENDAR