BEGIN:VCALENDAR
VERSION:2.0
PRODID:-//COFACE Families Europe - ECPv6.15.20//NONSGML v1.0//EN
CALSCALE:GREGORIAN
METHOD:PUBLISH
X-ORIGINAL-URL:https://coface-eu.org
X-WR-CALDESC:Events for COFACE Families Europe
REFRESH-INTERVAL;VALUE=DURATION:PT1H
X-Robots-Tag:noindex
X-PUBLISHED-TTL:PT1H
BEGIN:VTIMEZONE
TZID:Europe/Brussels
BEGIN:DAYLIGHT
TZOFFSETFROM:+0100
TZOFFSETTO:+0200
TZNAME:CEST
DTSTART:20230326T010000
END:DAYLIGHT
BEGIN:STANDARD
TZOFFSETFROM:+0200
TZOFFSETTO:+0100
TZNAME:CET
DTSTART:20231029T010000
END:STANDARD
BEGIN:DAYLIGHT
TZOFFSETFROM:+0100
TZOFFSETTO:+0200
TZNAME:CEST
DTSTART:20240331T010000
END:DAYLIGHT
BEGIN:STANDARD
TZOFFSETFROM:+0200
TZOFFSETTO:+0100
TZNAME:CET
DTSTART:20241027T010000
END:STANDARD
BEGIN:DAYLIGHT
TZOFFSETFROM:+0100
TZOFFSETTO:+0200
TZNAME:CEST
DTSTART:20250330T010000
END:DAYLIGHT
BEGIN:STANDARD
TZOFFSETFROM:+0200
TZOFFSETTO:+0100
TZNAME:CET
DTSTART:20251026T010000
END:STANDARD
END:VTIMEZONE
BEGIN:VEVENT
DTSTART;TZID=Europe/Brussels:20240312T113000
DTEND;TZID=Europe/Brussels:20240312T123000
DTSTAMP:20260425T162749
CREATED:20240116T212605Z
LAST-MODIFIED:20240524T064818Z
UID:22003-1710243000-1710246600@coface-eu.org
SUMMARY:Online capacity-building on EU funding and social services for families
DESCRIPTION:Online capacity-building on EU funding\nand social services for families \n12th March 11.30-12.30 CET\nIt is widely acknowledged that social services are facing significant difficulties\, such as chronic underfunding\, staff shortages and challenges in transitioning to community-based and person-centred forms of services. Receiving adequate funds and making sure that these are easily accessible and used to fund quality interventions in the field is critical to overcome these obstacles. \nA representative from the Helpdesk on EU funds for social services (run by EASPD) provided an overview of key funds and how they support the development of social services linked to the implementation of different European strategies. \n  \n 
URL:https://coface-eu.org/event/online-capacity-building-on-eu-funding-and-social-services-for-families/
ATTACH;FMTTYPE=image/png:https://coface-eu.org/wp-content/uploads/2024/01/Flag_map_of_the_European_Union.png
END:VEVENT
END:VCALENDAR