BEGIN:VCALENDAR
VERSION:2.0
PRODID:-//COFACE Families Europe - ECPv6.15.20//NONSGML v1.0//EN
CALSCALE:GREGORIAN
METHOD:PUBLISH
X-ORIGINAL-URL:https://coface-eu.org
X-WR-CALDESC:Events for COFACE Families Europe
REFRESH-INTERVAL;VALUE=DURATION:PT1H
X-Robots-Tag:noindex
X-PUBLISHED-TTL:PT1H
BEGIN:VTIMEZONE
TZID:Europe/Brussels
BEGIN:DAYLIGHT
TZOFFSETFROM:+0100
TZOFFSETTO:+0200
TZNAME:CEST
DTSTART:20230326T010000
END:DAYLIGHT
BEGIN:STANDARD
TZOFFSETFROM:+0200
TZOFFSETTO:+0100
TZNAME:CET
DTSTART:20231029T010000
END:STANDARD
BEGIN:DAYLIGHT
TZOFFSETFROM:+0100
TZOFFSETTO:+0200
TZNAME:CEST
DTSTART:20240331T010000
END:DAYLIGHT
BEGIN:STANDARD
TZOFFSETFROM:+0200
TZOFFSETTO:+0100
TZNAME:CET
DTSTART:20241027T010000
END:STANDARD
BEGIN:DAYLIGHT
TZOFFSETFROM:+0100
TZOFFSETTO:+0200
TZNAME:CEST
DTSTART:20250330T010000
END:DAYLIGHT
BEGIN:STANDARD
TZOFFSETFROM:+0200
TZOFFSETTO:+0100
TZNAME:CET
DTSTART:20251026T010000
END:STANDARD
END:VTIMEZONE
BEGIN:VEVENT
DTSTART;TZID=Europe/Brussels:20240416T090000
DTEND;TZID=Europe/Brussels:20240416T163000
DTSTAMP:20260425T150400
CREATED:20240116T211359Z
LAST-MODIFIED:20240710T175232Z
UID:22001-1713258000-1713285000@coface-eu.org
SUMMARY:Life-long learning:  Bringing the family perspective to the education field
DESCRIPTION:European expert meeting on families and life-long learning\n16th April 2024\nDublin\, Ireland\nRead the key findings here. \nSee presentations from speakers below. \n\nEuropean context\nThe European Pillar of Social Rights puts a strong focus on education and lifelong learning\, and namely on guaranteeing the right to quality and inclusive education\, training and life-long learning in order to maintain and acquire skills that enable them to participate fully in society and manage successfully transitions to the labour market. The 2023 European Year of Skills agenda aims to raise awareness around skills and the need to improve and develop skills to address skills shortages\, while also helping people to get the right skills for good quality jobs through reskilling and upskilling. \nAdvocacy and collaboration between education and social rights NGOs further supports equitable education. COFACE advocates for educational policies and initiatives that support the diverse needs of families\, ensure educational equity\, and foster a supportive learning environment for all types of families. It does this especially through its European Family Lab. \nObjectives of the European expert meeting\nThis expert meeting brought together speakers from Ireland and Europe to help pave the way for family-centred education and learning systems. The expert meeting was an opportunity to: \n\nDiscuss the links between education and social rights\nSpotlight the diversity of educational approaches by featuring professionals working with families in different EU countries\, to share their insights on developing learning materials by-with-for families;\nBuild partnerships with key education stakeholders at national and European level\n\n  \nWorking language: English\nParticipation on invitation only: NGOs representing families\, policy-makers\, and researchers.\nSee full programme in English \nResources\nRead the key findings of the meeting here. \nPresentations Session 1: Setting the scene. Bringing the family perspective in education: diversity of approaches \n\nBeybin Elvin Tunç\, Education Programme Coordinator\, COFACE Families Europe\nAndrea Lapegna\, Deputy Director\, Life-Long Learning Platform\nDearbhail Lawless\, CEO\, National Adult Learning Organisation of Ireland (AONTAS)\n\nPresentations Session 2 The family perspective in education – country spotlights \n\nVictoria Forget\, Operational Assistant for life-long education\, Ligue des Familles\, Belgium\nRachel Cassen\, Director\, LEAP Ireland\nDaniel Martinovic\, President\, Rainbow Families Croatia\n\nPresentations Session 3 Opening up education to bring the perspectives of families \n\nDr. Justin Sinnott\, Manager\, Transformation Project Management Office\, SOLAS-Learning works\, Ireland\nDr. Antonia Torrens\, General Manager\, KMOP\, Greece\nDavide Muraro\, Policy and Project Coordinator\, European Association for the Education of Adults
URL:https://coface-eu.org/event/life-long-learning-bringing-the-family-perspective-to-the-education-field/
LOCATION:Dublin
ATTACH;FMTTYPE=image/png:https://coface-eu.org/wp-content/uploads/2024/01/Dublin-visual.png
END:VEVENT
END:VCALENDAR