BEGIN:VCALENDAR
VERSION:2.0
PRODID:-//COFACE Families Europe - ECPv6.15.20//NONSGML v1.0//EN
CALSCALE:GREGORIAN
METHOD:PUBLISH
X-WR-CALNAME:COFACE Families Europe
X-ORIGINAL-URL:https://coface-eu.org
X-WR-CALDESC:Events for COFACE Families Europe
REFRESH-INTERVAL;VALUE=DURATION:PT1H
X-Robots-Tag:noindex
X-PUBLISHED-TTL:PT1H
BEGIN:VTIMEZONE
TZID:Europe/Brussels
BEGIN:DAYLIGHT
TZOFFSETFROM:+0100
TZOFFSETTO:+0200
TZNAME:CEST
DTSTART:20230326T010000
END:DAYLIGHT
BEGIN:STANDARD
TZOFFSETFROM:+0200
TZOFFSETTO:+0100
TZNAME:CET
DTSTART:20231029T010000
END:STANDARD
BEGIN:DAYLIGHT
TZOFFSETFROM:+0100
TZOFFSETTO:+0200
TZNAME:CEST
DTSTART:20240331T010000
END:DAYLIGHT
BEGIN:STANDARD
TZOFFSETFROM:+0200
TZOFFSETTO:+0100
TZNAME:CET
DTSTART:20241027T010000
END:STANDARD
BEGIN:DAYLIGHT
TZOFFSETFROM:+0100
TZOFFSETTO:+0200
TZNAME:CEST
DTSTART:20250330T010000
END:DAYLIGHT
BEGIN:STANDARD
TZOFFSETFROM:+0200
TZOFFSETTO:+0100
TZNAME:CET
DTSTART:20251026T010000
END:STANDARD
END:VTIMEZONE
BEGIN:VEVENT
DTSTART;TZID=Europe/Brussels:20240508T080000
DTEND;TZID=Europe/Brussels:20240508T170000
DTSTAMP:20260425T132834
CREATED:20240221T160138Z
LAST-MODIFIED:20240607T090933Z
UID:22521-1715155200-1715187600@coface-eu.org
SUMMARY:Study Seminar on child abuse in the digital world
DESCRIPTION:European Study Seminar on child abuse in the digital world\n9.30-17.30\, Wednesday 8th May 2024 \nZagreb\, Croatia \nThe Child Assault Prevention (CAP) Programme is one of the most comprehensive and innovative prevention programmes for child abuse in the world. The original CAP programme began to be implemented in the United States in 1978. The International Center for Assault Prevention (ICAP)\, founded in 1985\, has expanded the programme to other countries around the world. This central organisation does not exist anymore\, but the programme continues to be implemented in Regional Training Centres. \nCOFACE member\, Step by Step Parents Association\, is such a Regional Training Centre in Croatia where they train facilitators to implement the CAP programme. The CAP programme equips children with effective prevention strategies to reduce their vulnerability and exposure to various forms of violence. Additionally\, it ensures better support for parents\, legal guardians\, and educators. The programme has several variants that are intended for children of different ages and needs: preschool\, kindergarten\, teenagers\, and children with disabilities. \nThe aim of this study seminar was to learn more about the CAP approach in Croatia\, exchange ideas with practitioners from other countries working also to prevent child abuse\, assess together how to upgrade programmes to prevent child abuse online\, and finally to build partnerships between family organisations and Safer Internet Centres. \nIn the afternoon\, COFACE hosted a working group on safer internet with its members and partners. \nWorking languages: English and Croatian \nSee full programme here. \nSpeaker presentations \n\nGorana Hitrec\, Step by Step Parents Association (Croatia)\, Spotlight on the CAP Programme in Croatia\nAndreas Rentzis\, KMOP (Greece)\, Presentation of Actions\nPatricia Cardona Roca\, Brave Movement (Spain)\, Prevention of child sexual abuse online: perspectives from European countries\nBeatrijs Gelders\, COFACE Families Europe\, EU Developments Safer Internet\nVineeca Kuo\, INHOPE\, Fighting CSAM\nAntoaneta Vassileva\, Bulgarian Safer Internet Centre\, Cooperation with Insafe and INHOPE network\nTomislav Ramljak\, Croatian Safer Internet Centre\, Introduction to the Center for Missing and Exploited Children\nAmaia Echevarría\, UNAF Spain\, Safer Internet initiatives for families\n\nFurther links \n\nChild Sexual Abuse Prevention and Education (CSAPE) Project \nIWF Report: How AI is being abused to create child sexual abuse imagery\nIWF Resource for parents: TALK Checklist\nUNAF Campaign: Elige tu rol – Choose your role
URL:https://coface-eu.org/event/study-seminar-on-child-abuse-in-the-digital-world/
LOCATION:Zagreb\, Croatia (Local Name: Hrvatska)
ATTACH;FMTTYPE=image/png:https://coface-eu.org/wp-content/uploads/2024/02/Getty-Images-Signature.png
END:VEVENT
END:VCALENDAR