BEGIN:VCALENDAR
VERSION:2.0
PRODID:-//COFACE Families Europe - ECPv6.15.20//NONSGML v1.0//EN
CALSCALE:GREGORIAN
METHOD:PUBLISH
X-WR-CALNAME:COFACE Families Europe
X-ORIGINAL-URL:https://coface-eu.org
X-WR-CALDESC:Events for COFACE Families Europe
REFRESH-INTERVAL;VALUE=DURATION:PT1H
X-Robots-Tag:noindex
X-PUBLISHED-TTL:PT1H
BEGIN:VTIMEZONE
TZID:Europe/Brussels
BEGIN:DAYLIGHT
TZOFFSETFROM:+0100
TZOFFSETTO:+0200
TZNAME:CEST
DTSTART:20230326T010000
END:DAYLIGHT
BEGIN:STANDARD
TZOFFSETFROM:+0200
TZOFFSETTO:+0100
TZNAME:CET
DTSTART:20231029T010000
END:STANDARD
BEGIN:DAYLIGHT
TZOFFSETFROM:+0100
TZOFFSETTO:+0200
TZNAME:CEST
DTSTART:20240331T010000
END:DAYLIGHT
BEGIN:STANDARD
TZOFFSETFROM:+0200
TZOFFSETTO:+0100
TZNAME:CET
DTSTART:20241027T010000
END:STANDARD
BEGIN:DAYLIGHT
TZOFFSETFROM:+0100
TZOFFSETTO:+0200
TZNAME:CEST
DTSTART:20250330T010000
END:DAYLIGHT
BEGIN:STANDARD
TZOFFSETFROM:+0200
TZOFFSETTO:+0100
TZNAME:CET
DTSTART:20251026T010000
END:STANDARD
END:VTIMEZONE
BEGIN:VEVENT
DTSTART;TZID=Europe/Brussels:20240515T173000
DTEND;TZID=Europe/Brussels:20240515T193000
DTSTAMP:20260425T132830
CREATED:20240402T181205Z
LAST-MODIFIED:20240524T064600Z
UID:22657-1715794200-1715801400@coface-eu.org
SUMMARY:State Of The European Union for families
DESCRIPTION:COFACE Meet&Connect event – 15th May 17.30-19.30\n  \nOn 15th May from 17.30-19.30 in the Schuman area of Brussels\, COFACE Families Europe invited friends to assess the results of the last 5-year mandate of the von der Leyen Commission and highlight some key messages ahead of the European elections. \nThis was also be the occasion to celebrate the 30th anniversary of the International Year of Families. \nCOFACE Families launched its “State Of The European Union for families” assessment of the last 5-year mandate of the von der Leyen Commission and how it contributed to achieving eight specific outcomes for families. We also presented our #ActNow for Families of Today call to action\, which comprises 10 specific actions that COFACE believe should be integrated into the EU’s 2024-2029 programme. Also available in Easy-to-read version here. \nLast but not least\, a COFACE song has been developed with the aim to push our message in a creative and engaging way. \n_____________________ \nBackground\nIn 2019\, COFACE Families Europe mobilised voters locally through its member organisations (representing families of all types\, without discrimination). A call was launched to the COFACE network to vote and speak out in May 2019 using 10 key values as a compass: non-discrimination\, equal opportunities\, empowerment\, internet for all\, social inclusion\, sustainability\, respect of human rights\, solidarity\, child well-being\, accessibility. \nFollowing the 2019 election of the new European Parliament and the publication of the European Commission’s political guidelines\, COFACE Families Europe published its New Deal for Families of Today which is a list of key short-term demands (also available in Easy-to-Read language) to be achieved by the new European Commission from 2020-2024. They are to be seen as concrete steps to meet the long-term goals of the European Pillar of Social Rights and the 2030 Sustainable Development Goals. \nThese demands reflect the needs and challenges of families of today and call for a mix of European actions (policy\, law\, funding\, benchmarking\, innovation) to drive real change. These recommendations are addressed at EU-level policymakers in the European Commission\, European Parliament and Council of the EU\, from whom we expect joint leadership to ensure tangible results for Europe’s citizens. \nIt is on this basis that we have assessed the work of the European Union’s work from 2019 to 2024\, and how it contributes to achieving positive outcomes for families of today. \n 
URL:https://coface-eu.org/event/state-of-the-union-for-europes-families/
ATTACH;FMTTYPE=image/jpeg:https://coface-eu.org/wp-content/uploads/2024/04/Visual-SOTEUFamilies.jpg
END:VEVENT
END:VCALENDAR