BEGIN:VCALENDAR
VERSION:2.0
PRODID:-//COFACE Families Europe - ECPv6.15.20//NONSGML v1.0//EN
CALSCALE:GREGORIAN
METHOD:PUBLISH
X-ORIGINAL-URL:https://coface-eu.org
X-WR-CALDESC:Events for COFACE Families Europe
REFRESH-INTERVAL;VALUE=DURATION:PT1H
X-Robots-Tag:noindex
X-PUBLISHED-TTL:PT1H
BEGIN:VTIMEZONE
TZID:Europe/Brussels
BEGIN:DAYLIGHT
TZOFFSETFROM:+0100
TZOFFSETTO:+0200
TZNAME:CEST
DTSTART:20230326T010000
END:DAYLIGHT
BEGIN:STANDARD
TZOFFSETFROM:+0200
TZOFFSETTO:+0100
TZNAME:CET
DTSTART:20231029T010000
END:STANDARD
BEGIN:DAYLIGHT
TZOFFSETFROM:+0100
TZOFFSETTO:+0200
TZNAME:CEST
DTSTART:20240331T010000
END:DAYLIGHT
BEGIN:STANDARD
TZOFFSETFROM:+0200
TZOFFSETTO:+0100
TZNAME:CET
DTSTART:20241027T010000
END:STANDARD
BEGIN:DAYLIGHT
TZOFFSETFROM:+0100
TZOFFSETTO:+0200
TZNAME:CEST
DTSTART:20250330T010000
END:DAYLIGHT
BEGIN:STANDARD
TZOFFSETFROM:+0200
TZOFFSETTO:+0100
TZNAME:CET
DTSTART:20251026T010000
END:STANDARD
END:VTIMEZONE
BEGIN:VEVENT
DTSTART;TZID=Europe/Brussels:20240620T093000
DTEND;TZID=Europe/Brussels:20240620T110000
DTSTAMP:20260425T134432
CREATED:20240428T201424Z
LAST-MODIFIED:20240620T112814Z
UID:22784-1718875800-1718881200@coface-eu.org
SUMMARY:Key tools for driving change towards  parenting equality in Poland
DESCRIPTION:Key tools for driving change towards parenting equality in Poland\nDate\n20th June 2024 from 9.30-11.00 CET \nTitle\nKey tools for driving change towards parenting equality in Poland \nSpeakers \n\nKarolina Andrian is a founder and president of the Share The Care Foundation in Poland. Social entrepreneur in Femmeritum\, and Board member of COFACE\, she is an expert in the area of gender equality\, DEI and parental equality.\nLuis Lineo is actively involved in Sweden’s Feminist Initiative Party and works at the secretariat for the MenEngage Europe secretariat (MenEngage is a global network of civil society organisations working with men and boys for gender equality)\n\n\nDescription \nThis breakfast byte webinar was hosted on international fathers’ day to put the spotlight on men and care through a parenting equality lens.\nThe organisation Share The Care Foundation in Poland recently organised the second edition of their “Equal at home – Equal at work – A win-win for all” campaign on the occasion of the entry into force of the EU work-life balance directive in Poland. Their campaign aims to spark discussions and insights into whether the directive has indeed empowered individuals to achieve greater gender equality in the work and family life.\nMenEngage Europe (a global network of civil society organisations working with men and boys for gender equality) responded to the Polish actions from their more global perspective\, highlighting some key challenges and successes in relation to parenting equality.\nThe webinar was an opportunity to take a closer look at legal and policy tools\, as well as company tools\, support services and campaigns to support parenting equality\, aiming to inspire other countries to support men in their caring roles and encourage take-up of family leaves. \nFurther information \nPresentation of Karolina Andrian\nShare the Care Foundation\nEqual at Work – Equal at Home: A win-win for everyone!\nMenEngage \n 
URL:https://coface-eu.org/event/key-tools-for-driving-change-towards-parenting-equality-in-poland/
ATTACH;FMTTYPE=image/png:https://coface-eu.org/wp-content/uploads/2024/04/breakfastbyte-coface.png
END:VEVENT
END:VCALENDAR