BEGIN:VCALENDAR
VERSION:2.0
PRODID:-//COFACE Families Europe - ECPv6.15.20//NONSGML v1.0//EN
CALSCALE:GREGORIAN
METHOD:PUBLISH
X-ORIGINAL-URL:https://coface-eu.org
X-WR-CALDESC:Events for COFACE Families Europe
REFRESH-INTERVAL;VALUE=DURATION:PT1H
X-Robots-Tag:noindex
X-PUBLISHED-TTL:PT1H
BEGIN:VTIMEZONE
TZID:Europe/Brussels
BEGIN:DAYLIGHT
TZOFFSETFROM:+0100
TZOFFSETTO:+0200
TZNAME:CEST
DTSTART:20230326T010000
END:DAYLIGHT
BEGIN:STANDARD
TZOFFSETFROM:+0200
TZOFFSETTO:+0100
TZNAME:CET
DTSTART:20231029T010000
END:STANDARD
BEGIN:DAYLIGHT
TZOFFSETFROM:+0100
TZOFFSETTO:+0200
TZNAME:CEST
DTSTART:20240331T010000
END:DAYLIGHT
BEGIN:STANDARD
TZOFFSETFROM:+0200
TZOFFSETTO:+0100
TZNAME:CET
DTSTART:20241027T010000
END:STANDARD
BEGIN:DAYLIGHT
TZOFFSETFROM:+0100
TZOFFSETTO:+0200
TZNAME:CEST
DTSTART:20250330T010000
END:DAYLIGHT
BEGIN:STANDARD
TZOFFSETFROM:+0200
TZOFFSETTO:+0100
TZNAME:CET
DTSTART:20251026T010000
END:STANDARD
END:VTIMEZONE
BEGIN:VEVENT
DTSTART;TZID=Europe/Brussels:20241105T100000
DTEND;TZID=Europe/Brussels:20241105T123000
DTSTAMP:20260423T181656
CREATED:20240906T205028Z
LAST-MODIFIED:20240906T211726Z
UID:23284-1730800800-1730809800@coface-eu.org
SUMMARY:Comms Webinar on Accessible and Inclusive Practices with Lila Sylviti
DESCRIPTION:COFACE Families Europe is pleased to invite its members and partner organisations to an upcoming online training on inclusive and accessible communications. The training will be given by Lila Sylviti\, who specialises in accessible information\, inclusive graphic design\, and easy-to-read. You can find more info and samples of her work on her website: www.sayiteasy.eu . \nThe aim of the training is to: \n\nGet a better understanding of what inclusion and accessibility means when it comes to communication and information.\nImprove our skills in writing\, design and using communications channels\, like the website and social media\, in a more inclusive and accessible way.\nEmpower communications professionals with information and practical tips.\n\nPlease note that this is an invitation-only event with priority access for COFACE members and its network. \nWorking language: English \nFor more information contact: Bettina Guigui bguigui@coface-eu.org.
URL:https://coface-eu.org/event/comms-training-accessibility-inclusivity/
ATTACH;FMTTYPE=image/png:https://coface-eu.org/wp-content/uploads/2024/09/Comms-Webinar-1.png
END:VEVENT
END:VCALENDAR