BEGIN:VCALENDAR
VERSION:2.0
PRODID:-//COFACE Families Europe - ECPv6.15.20//NONSGML v1.0//EN
CALSCALE:GREGORIAN
METHOD:PUBLISH
X-ORIGINAL-URL:https://coface-eu.org
X-WR-CALDESC:Events for COFACE Families Europe
REFRESH-INTERVAL;VALUE=DURATION:PT1H
X-Robots-Tag:noindex
X-PUBLISHED-TTL:PT1H
BEGIN:VTIMEZONE
TZID:Europe/Brussels
BEGIN:DAYLIGHT
TZOFFSETFROM:+0100
TZOFFSETTO:+0200
TZNAME:CEST
DTSTART:20230326T010000
END:DAYLIGHT
BEGIN:STANDARD
TZOFFSETFROM:+0200
TZOFFSETTO:+0100
TZNAME:CET
DTSTART:20231029T010000
END:STANDARD
BEGIN:DAYLIGHT
TZOFFSETFROM:+0100
TZOFFSETTO:+0200
TZNAME:CEST
DTSTART:20240331T010000
END:DAYLIGHT
BEGIN:STANDARD
TZOFFSETFROM:+0200
TZOFFSETTO:+0100
TZNAME:CET
DTSTART:20241027T010000
END:STANDARD
BEGIN:DAYLIGHT
TZOFFSETFROM:+0100
TZOFFSETTO:+0200
TZNAME:CEST
DTSTART:20250330T010000
END:DAYLIGHT
BEGIN:STANDARD
TZOFFSETFROM:+0200
TZOFFSETTO:+0100
TZNAME:CET
DTSTART:20251026T010000
END:STANDARD
END:VTIMEZONE
BEGIN:VEVENT
DTSTART;TZID=Europe/Brussels:20241120T093000
DTEND;TZID=Europe/Brussels:20241120T110000
DTSTAMP:20260423T181653
CREATED:20240923T125635Z
LAST-MODIFIED:20241120T140703Z
UID:23457-1732095000-1732100400@coface-eu.org
SUMMARY:Webinar: Care and support for families with hearing disabilities
DESCRIPTION:COFACE Breakfast byte webinar on World Children’s Day\n20th November 9.30-11.00 CET \nAbout the webinar\nSpeaker: Olga Corral\, Advisor on accessibility\, education and training at FIAPAS\, Spain. \nTopic: On 2024 World Children’s Day\, this breakfast byte webinar will put the spotlight on supports to families with hearing disabilities\, starting with a deep dive into a programme developed by FIAPAS (COFACE Disability member) in 1998. FIAPAS have a network of more than thirty Family Care and Support Services across Spain which are coordinated by professionals specialised in hearing disabilities and family support. They work closely with volunteers parents. \nFIAPAS carries out the planning\, coordination and monitoring of the actions and results of the network at national level to ensure that people with hearing disabilities and their families have information\, guidance and support throughout the life cycle. Tools include a national internal communication platform\, trainings\, and coordinated actions in relation to the health\, educational and social needs of families. \nAdditionally\, through the analysis of the Network’s care data\, FIAPAS uses this key data to guide social transformation and inclusion. \nJoin the conversation to learn more about this network in Spain and also to share your own practices and positions on family supports. \nResources\nThe full presentation of the webinar can be found here and the recording of the talk will be added to COFACE TV here. \nAdditional FIAPAS resources can be found at the links below: \nhttps://bibliotecafiapas.es/\nhttps://www.queloescuchetodoelmundo.com/\nhttps://bibliotecafiapas.es/en/publication/hearing-accessibility-in-classrooms-and-educational-centres-2/\nhttps://bibliotecafiapas.es/en/publication/hearing-accessibility-to-information-communication-and-learning/ \n 
URL:https://coface-eu.org/event/webinar-care-and-support-for-families-with-hearing-disabilities/
ATTACH;FMTTYPE=image/png:https://coface-eu.org/wp-content/uploads/2024/04/breakfastbyte-coface.png
END:VEVENT
END:VCALENDAR