BEGIN:VCALENDAR
VERSION:2.0
PRODID:-//COFACE Families Europe - ECPv6.15.20//NONSGML v1.0//EN
CALSCALE:GREGORIAN
METHOD:PUBLISH
X-ORIGINAL-URL:https://coface-eu.org
X-WR-CALDESC:Events for COFACE Families Europe
REFRESH-INTERVAL;VALUE=DURATION:PT1H
X-Robots-Tag:noindex
X-PUBLISHED-TTL:PT1H
BEGIN:VTIMEZONE
TZID:Europe/Brussels
BEGIN:DAYLIGHT
TZOFFSETFROM:+0100
TZOFFSETTO:+0200
TZNAME:CEST
DTSTART:20240331T010000
END:DAYLIGHT
BEGIN:STANDARD
TZOFFSETFROM:+0200
TZOFFSETTO:+0100
TZNAME:CET
DTSTART:20241027T010000
END:STANDARD
BEGIN:DAYLIGHT
TZOFFSETFROM:+0100
TZOFFSETTO:+0200
TZNAME:CEST
DTSTART:20250330T010000
END:DAYLIGHT
BEGIN:STANDARD
TZOFFSETFROM:+0200
TZOFFSETTO:+0100
TZNAME:CET
DTSTART:20251026T010000
END:STANDARD
BEGIN:DAYLIGHT
TZOFFSETFROM:+0100
TZOFFSETTO:+0200
TZNAME:CEST
DTSTART:20260329T010000
END:DAYLIGHT
BEGIN:STANDARD
TZOFFSETFROM:+0200
TZOFFSETTO:+0100
TZNAME:CET
DTSTART:20261025T010000
END:STANDARD
END:VTIMEZONE
BEGIN:VEVENT
DTSTART;TZID=Europe/Brussels:20250408T080000
DTEND;TZID=Europe/Brussels:20250409T123000
DTSTAMP:20260423T120009
CREATED:20241205T191424Z
LAST-MODIFIED:20250414T140901Z
UID:23915-1744099200-1744201800@coface-eu.org
SUMMARY:COFACE working group on safer internet
DESCRIPTION:Background\nFor children and their families\, the digital and physical world are seamlessly connected. Parents and carers have a key role to play in guiding their children through the digital environment and in making sense of both positive and negative experiences. This role should be recognised and supported through a strong regulatory framework\, ongoing dialogue and sharing of experiences between parents/carers and children\, awareness raising and evidence-based support and prevention measures. Children’s exposure to harmful risks online should be reduced without compromising their opportunities to benefit from the positive impact of digital technologies. Families are diverse and need a wide range of support measures from different policy areas\, such as social\, family\, health\, education and digital policies. \nObjectives of the working group meeting\nThe aim of this working group meeting will be to find intersections between family\, education and digital policies\, to address key digital challenges for families of today\, and to build stronger partnerships between family organisations\, Safer Internet Centres and other stakeholders. We will discuss key topics include EU legislative developments\, digital parent support\, sharenting and child rights\, parental control tools and preventing child sexual abuse online\, artificial intelligence\, cyberbullying and more. \n  \nResources\n\nCOFACE Digitalisation principles\nCOFACE policy brief on supporting families in the digital era \nDigital well-being in childhood. Research and policy perspectives from Finland – Vaestoliitto\nOverview of the work of KAVI in Finland – National Audiovisual Institute\nOPINION – Sharenting: exercise of parental rights or infringement of privacy? \nBelgian Presidency of the EU: Content with conscience Conclusions | Vlaanderen.be\nFrance aims to protect kids from parents oversharing pics online – POLITICO\nEuropean Parliamentary question | Sharenting: safeguarding children’s privacy | E-000998/2024 | European Parliament\nBEE SECURE Radar Report in Luxembourg (French and English)\n\n \nLearning materials\n\nBetter Internet for Kids portal – Learning corner for families (in all EU languages)\nE-learning course on school bullying management – L.I.N.K. course for teachers and educators (in English and Greek)\nSpain: Resources for parents and caregivers Recursos para familias (Incibe)\nBelgium: How to choose a trusted adult? Childfocus MAX (in Dutch and French)\nFinland: Insights from Parents and Caregivers of Child Victims of Online Sexual Abuse Project Children\nLuxembourg: AI and Online Safety BEE Secure (in German and French)\nFinland: Media Education \nFinland: New warning website targeting parents and raising awareness about harmful and dangerous social media trends\nFinland: AI abyss video\nFrance: Vinz et Lou– A printable escape game for families (in French)\nFrance: Mon Moment Écran – My Screen Time (In French and English)\nFrance: Stop La Violence – A serious game that raises awareness about bullying and cyberbullying in a fun\, impactful way (In French and English)
URL:https://coface-eu.org/event/coface-working-group-on-safer-internet/
LOCATION:Helsinki\, Finland
ATTACH;FMTTYPE=image/jpeg:https://coface-eu.org/wp-content/uploads/2023/01/logo-coface-families-europe-2.jpg
END:VEVENT
END:VCALENDAR