BEGIN:VCALENDAR
VERSION:2.0
PRODID:-//COFACE Families Europe - ECPv6.15.20//NONSGML v1.0//EN
CALSCALE:GREGORIAN
METHOD:PUBLISH
X-ORIGINAL-URL:https://coface-eu.org
X-WR-CALDESC:Events for COFACE Families Europe
REFRESH-INTERVAL;VALUE=DURATION:PT1H
X-Robots-Tag:noindex
X-PUBLISHED-TTL:PT1H
BEGIN:VTIMEZONE
TZID:Europe/Brussels
BEGIN:DAYLIGHT
TZOFFSETFROM:+0100
TZOFFSETTO:+0200
TZNAME:CEST
DTSTART:20240331T010000
END:DAYLIGHT
BEGIN:STANDARD
TZOFFSETFROM:+0200
TZOFFSETTO:+0100
TZNAME:CET
DTSTART:20241027T010000
END:STANDARD
BEGIN:DAYLIGHT
TZOFFSETFROM:+0100
TZOFFSETTO:+0200
TZNAME:CEST
DTSTART:20250330T010000
END:DAYLIGHT
BEGIN:STANDARD
TZOFFSETFROM:+0200
TZOFFSETTO:+0100
TZNAME:CET
DTSTART:20251026T010000
END:STANDARD
BEGIN:DAYLIGHT
TZOFFSETFROM:+0100
TZOFFSETTO:+0200
TZNAME:CEST
DTSTART:20260329T010000
END:DAYLIGHT
BEGIN:STANDARD
TZOFFSETFROM:+0200
TZOFFSETTO:+0100
TZNAME:CET
DTSTART:20261025T010000
END:STANDARD
END:VTIMEZONE
BEGIN:VEVENT
DTSTART;TZID=Europe/Brussels:20250708T140000
DTEND;TZID=Europe/Brussels:20250708T153000
DTSTAMP:20260419T202037
CREATED:20250611T164628Z
LAST-MODIFIED:20250613T092228Z
UID:25195-1751983200-1751988600@coface-eu.org
SUMMARY:COFACE working group on climate change and families
DESCRIPTION:COFACE Families Europe is organising an internal working group meeting on climate change and families at 14.00 on 8th July. \nWe will discuss the potential impacts on families of both the climate change and the measures mitigating them. We will also discuss key target groups and recommendations. \nThis meeting is open to COFACE members only. \nRegister here.
URL:https://coface-eu.org/event/coface-working-group-on-climate-change-and-families/
ATTACH;FMTTYPE=image/jpeg:https://coface-eu.org/wp-content/uploads/2023/01/logo-coface-families-europe-2.jpg
END:VEVENT
END:VCALENDAR