BEGIN:VCALENDAR
VERSION:2.0
PRODID:-//COFACE Families Europe - ECPv6.15.20//NONSGML v1.0//EN
CALSCALE:GREGORIAN
METHOD:PUBLISH
X-WR-CALNAME:COFACE Families Europe
X-ORIGINAL-URL:https://coface-eu.org
X-WR-CALDESC:Events for COFACE Families Europe
REFRESH-INTERVAL;VALUE=DURATION:PT1H
X-Robots-Tag:noindex
X-PUBLISHED-TTL:PT1H
BEGIN:VTIMEZONE
TZID:Europe/Brussels
BEGIN:DAYLIGHT
TZOFFSETFROM:+0100
TZOFFSETTO:+0200
TZNAME:CEST
DTSTART:20240331T010000
END:DAYLIGHT
BEGIN:STANDARD
TZOFFSETFROM:+0200
TZOFFSETTO:+0100
TZNAME:CET
DTSTART:20241027T010000
END:STANDARD
BEGIN:DAYLIGHT
TZOFFSETFROM:+0100
TZOFFSETTO:+0200
TZNAME:CEST
DTSTART:20250330T010000
END:DAYLIGHT
BEGIN:STANDARD
TZOFFSETFROM:+0200
TZOFFSETTO:+0100
TZNAME:CET
DTSTART:20251026T010000
END:STANDARD
BEGIN:DAYLIGHT
TZOFFSETFROM:+0100
TZOFFSETTO:+0200
TZNAME:CEST
DTSTART:20260329T010000
END:DAYLIGHT
BEGIN:STANDARD
TZOFFSETFROM:+0200
TZOFFSETTO:+0100
TZNAME:CET
DTSTART:20261025T010000
END:STANDARD
END:VTIMEZONE
BEGIN:VEVENT
DTSTART;TZID=Europe/Brussels:20250904T100000
DTEND;TZID=Europe/Brussels:20250904T123000
DTSTAMP:20260419T174108
CREATED:20250701T153248Z
LAST-MODIFIED:20250701T153320Z
UID:25309-1756980000-1756989000@coface-eu.org
SUMMARY:Round table on the role of EU policy in shaping inclusive labour markets
DESCRIPTION:PATHS2INCLUDE and the Civil Society Organisations’ Group of the European Economic and Social Committee (EESC) are co-hosting a Policy round table to discuss the role of EU policies in shaping inclusive labour markets on 4 September 2025. \nThe round table will focus on PATHS2INCLUDE research findings highlighting contextual factors determining labour market inclusion and the intersections of health and age which create labour market vulnerabilities. Together with participants from institutional and non-institutional stakeholders working at EU level\, it will consider how these findings can feed into different EU policy initiatives. The aim will be to: \n\nConnect EU policy makers working on inclusive labour markets from different perspectives (inclusion\, employment\, discrimination\, social dialogue\, CSR) at EU level;\nHighlight some points of vulnerability emerging in the research\, reflecting on how these depend on the interaction between individual characteristics and the structural features of the context in which people live.\nExplore different European labour market scenarios\, including the potential impact of reducing the gender employment gap in terms of poverty reduction and increased fiscal space.\nDiscuss how different EU policy and legal frameworks can provide potential solutions to these vulnerabilities and scenarios.\n\nThe outcomes of the round table discussions will feed into a PATHS2INCLUDE policy brief\, aimed at institutional and policy stakeholders\, focusing on best practice for inclusive labour markets\, namely contextual factors and how they shape inclusive labour markets.
URL:https://coface-eu.org/event/policy-round-table-on-the-role-of-eu-policy-in-shaping-inclusive-labour-markets/
ATTACH;FMTTYPE=image/png:https://coface-eu.org/wp-content/uploads/2025/06/EESC-policy-roundtable.png
END:VEVENT
END:VCALENDAR