BEGIN:VCALENDAR
VERSION:2.0
PRODID:-//COFACE Families Europe - ECPv6.15.20//NONSGML v1.0//EN
CALSCALE:GREGORIAN
METHOD:PUBLISH
X-ORIGINAL-URL:https://coface-eu.org
X-WR-CALDESC:Events for COFACE Families Europe
REFRESH-INTERVAL;VALUE=DURATION:PT1H
X-Robots-Tag:noindex
X-PUBLISHED-TTL:PT1H
BEGIN:VTIMEZONE
TZID:Europe/Brussels
BEGIN:DAYLIGHT
TZOFFSETFROM:+0100
TZOFFSETTO:+0200
TZNAME:CEST
DTSTART:20240331T010000
END:DAYLIGHT
BEGIN:STANDARD
TZOFFSETFROM:+0200
TZOFFSETTO:+0100
TZNAME:CET
DTSTART:20241027T010000
END:STANDARD
BEGIN:DAYLIGHT
TZOFFSETFROM:+0100
TZOFFSETTO:+0200
TZNAME:CEST
DTSTART:20250330T010000
END:DAYLIGHT
BEGIN:STANDARD
TZOFFSETFROM:+0200
TZOFFSETTO:+0100
TZNAME:CET
DTSTART:20251026T010000
END:STANDARD
BEGIN:DAYLIGHT
TZOFFSETFROM:+0100
TZOFFSETTO:+0200
TZNAME:CEST
DTSTART:20260329T010000
END:DAYLIGHT
BEGIN:STANDARD
TZOFFSETFROM:+0200
TZOFFSETTO:+0100
TZNAME:CET
DTSTART:20261025T010000
END:STANDARD
END:VTIMEZONE
BEGIN:VEVENT
DTSTART;TZID=Europe/Brussels:20250905T133000
DTEND;TZID=Europe/Brussels:20250905T150000
DTSTAMP:20260419T174421
CREATED:20250731T103007Z
LAST-MODIFIED:20250731T124716Z
UID:25455-1757079000-1757084400@coface-eu.org
SUMMARY:Online exchange with COFACE members on social media bans
DESCRIPTION: Online exchange with COFACE members on social media bans\n5 September 2025 13.30-15.00 \nYou might probably have heard it already\, but more and more governments are calling for social media bans/clear age restrictions/a digital age of majority. These discussions also take place at a European level in the European Parliament. \nWe would therefore like to organise an exchange with COFACE members to hear your different views and expertise related to this topic\, and to understand the different developments in Member States. \nThis meeting is for COFACE members only. Please register here to join the exchange and share updates about developments in your country!
URL:https://coface-eu.org/event/online-exchange-with-coface-members-on-social-media-bans/
ATTACH;FMTTYPE=image/png:https://coface-eu.org/wp-content/uploads/2024/06/Mixed-raced-family-with-digital-devices.png
END:VEVENT
END:VCALENDAR