BEGIN:VCALENDAR
VERSION:2.0
PRODID:-//COFACE Families Europe - ECPv6.15.20//NONSGML v1.0//EN
CALSCALE:GREGORIAN
METHOD:PUBLISH
X-WR-CALNAME:COFACE Families Europe
X-ORIGINAL-URL:https://coface-eu.org
X-WR-CALDESC:Events for COFACE Families Europe
REFRESH-INTERVAL;VALUE=DURATION:PT1H
X-Robots-Tag:noindex
X-PUBLISHED-TTL:PT1H
BEGIN:VTIMEZONE
TZID:Europe/Brussels
BEGIN:DAYLIGHT
TZOFFSETFROM:+0100
TZOFFSETTO:+0200
TZNAME:CEST
DTSTART:20240331T010000
END:DAYLIGHT
BEGIN:STANDARD
TZOFFSETFROM:+0200
TZOFFSETTO:+0100
TZNAME:CET
DTSTART:20241027T010000
END:STANDARD
BEGIN:DAYLIGHT
TZOFFSETFROM:+0100
TZOFFSETTO:+0200
TZNAME:CEST
DTSTART:20250330T010000
END:DAYLIGHT
BEGIN:STANDARD
TZOFFSETFROM:+0200
TZOFFSETTO:+0100
TZNAME:CET
DTSTART:20251026T010000
END:STANDARD
BEGIN:DAYLIGHT
TZOFFSETFROM:+0100
TZOFFSETTO:+0200
TZNAME:CEST
DTSTART:20260329T010000
END:DAYLIGHT
BEGIN:STANDARD
TZOFFSETFROM:+0200
TZOFFSETTO:+0100
TZNAME:CET
DTSTART:20261025T010000
END:STANDARD
END:VTIMEZONE
BEGIN:VEVENT
DTSTART;TZID=Europe/Brussels:20251113T080000
DTEND;TZID=Europe/Brussels:20251114T170000
DTSTAMP:20260419T150744
CREATED:20250623T154933Z
LAST-MODIFIED:20250623T154933Z
UID:25300-1763020800-1763139600@coface-eu.org
SUMMARY:COFACE Disability annual platform meeting
DESCRIPTION:COFACE Disability annual platform meeting\nParis\, 13-14 November 2025 \nThis year’s meeting aims to bring together COFACE members and external partners to share diverse insights and experiences related to the inclusive transition of care services for persons with disabilities. The discussion will dive into what this transition concretely entails on the ground\, what are the challenges and opportunities in facilitating it\, the presentation of local best practices\, as well as insights into the best way to integrate families in its realisation. The discussion aims to encompass developments at European\, national\, and regional levels. \nThis meeting is for COFACE members only. \nSAVE THE DATE and register by contacting Sebastian Gonzalez sgonzalez@coface-eu.org \n 
URL:https://coface-eu.org/event/coface-disability-annual-platform-meeting/
ATTACH;FMTTYPE=image/png:https://coface-eu.org/wp-content/uploads/2023/11/Coffee-shop-coworkers-Antoni-Shkraba-from-Pexels.png
END:VEVENT
END:VCALENDAR