BEGIN:VCALENDAR
VERSION:2.0
PRODID:-//COFACE Families Europe - ECPv6.15.20//NONSGML v1.0//EN
CALSCALE:GREGORIAN
METHOD:PUBLISH
X-WR-CALNAME:COFACE Families Europe
X-ORIGINAL-URL:https://coface-eu.org
X-WR-CALDESC:Events for COFACE Families Europe
REFRESH-INTERVAL;VALUE=DURATION:PT1H
X-Robots-Tag:noindex
X-PUBLISHED-TTL:PT1H
BEGIN:VTIMEZONE
TZID:Europe/Brussels
BEGIN:DAYLIGHT
TZOFFSETFROM:+0100
TZOFFSETTO:+0200
TZNAME:CEST
DTSTART:20220327T010000
END:DAYLIGHT
BEGIN:STANDARD
TZOFFSETFROM:+0200
TZOFFSETTO:+0100
TZNAME:CET
DTSTART:20221030T010000
END:STANDARD
BEGIN:DAYLIGHT
TZOFFSETFROM:+0100
TZOFFSETTO:+0200
TZNAME:CEST
DTSTART:20230326T010000
END:DAYLIGHT
BEGIN:STANDARD
TZOFFSETFROM:+0200
TZOFFSETTO:+0100
TZNAME:CET
DTSTART:20231029T010000
END:STANDARD
BEGIN:DAYLIGHT
TZOFFSETFROM:+0100
TZOFFSETTO:+0200
TZNAME:CEST
DTSTART:20240331T010000
END:DAYLIGHT
BEGIN:STANDARD
TZOFFSETFROM:+0200
TZOFFSETTO:+0100
TZNAME:CET
DTSTART:20241027T010000
END:STANDARD
END:VTIMEZONE
BEGIN:VEVENT
DTSTART;TZID=Europe/Brussels:20230628T100000
DTEND;TZID=Europe/Brussels:20230628T113000
DTSTAMP:20260426T034703
CREATED:20230501T091327Z
LAST-MODIFIED:20230602T163627Z
UID:20729-1687946400-1687951800@coface-eu.org
SUMMARY:COFACE online exchange: Recognition of parenthood between Member States
DESCRIPTION:28th June from 10.00-11.30 CET\nCOFACE members are invited to join the discussion on a regulation proposed by the European Commission in December 2022  aimed at harmonising at EU level the rules of private international law relating to parenthood. The proposal is focused on the best interests and the rights of the child. \nIt aims to provide legal clarity for all types of families\, who find themselves in a cross-border situation within the EU\, be it because they move from one Member State to another to travel or reside\, or because they have family members or property in another Member State. \nOne of the main elements of the proposal is to create  a European Certificate of Parenthood: children (or their legal representatives) can request it from the Member State which established parenthood\, and choose to use it to prove their parenthood in all the other Member States. The Commission proposes a harmonised template\, common to the whole EU. The use of the Certificate would be optional for families\, but they have the right to request it and to have it accepted all over the EU. \nRegistrations open. \n  \nBackground information\nThe Rainbow Europe Index: an annual benchmarking tool developed by ILGA-Europe\, providing a comprehensive overview of LGBTQ+ rights and protections in European countries. The 2023 rankings showcase both progress and challenges within Europe. See more here.
URL:https://coface-eu.org/event/coface-online-member-exchange-on-parenthood-recognition-regulation/
ATTACH;FMTTYPE=image/jpeg:https://coface-eu.org/wp-content/uploads/2023/05/equality-bodies-corner.jpg
END:VEVENT
END:VCALENDAR