BEGIN:VCALENDAR
VERSION:2.0
PRODID:-//COFACE Families Europe - ECPv6.15.20//NONSGML v1.0//EN
CALSCALE:GREGORIAN
METHOD:PUBLISH
X-ORIGINAL-URL:https://coface-eu.org
X-WR-CALDESC:Events for COFACE Families Europe
REFRESH-INTERVAL;VALUE=DURATION:PT1H
X-Robots-Tag:noindex
X-PUBLISHED-TTL:PT1H
BEGIN:VTIMEZONE
TZID:Europe/Brussels
BEGIN:DAYLIGHT
TZOFFSETFROM:+0100
TZOFFSETTO:+0200
TZNAME:CEST
DTSTART:20230326T010000
END:DAYLIGHT
BEGIN:STANDARD
TZOFFSETFROM:+0200
TZOFFSETTO:+0100
TZNAME:CET
DTSTART:20231029T010000
END:STANDARD
BEGIN:DAYLIGHT
TZOFFSETFROM:+0100
TZOFFSETTO:+0200
TZNAME:CEST
DTSTART:20240331T010000
END:DAYLIGHT
BEGIN:STANDARD
TZOFFSETFROM:+0200
TZOFFSETTO:+0100
TZNAME:CET
DTSTART:20241027T010000
END:STANDARD
BEGIN:DAYLIGHT
TZOFFSETFROM:+0100
TZOFFSETTO:+0200
TZNAME:CEST
DTSTART:20250330T010000
END:DAYLIGHT
BEGIN:STANDARD
TZOFFSETFROM:+0200
TZOFFSETTO:+0100
TZNAME:CET
DTSTART:20251026T010000
END:STANDARD
END:VTIMEZONE
BEGIN:VEVENT
DTSTART;TZID=Europe/Brussels:20241211T140000
DTEND;TZID=Europe/Brussels:20241211T153000
DTSTAMP:20260423T155514
CREATED:20241205T184556Z
LAST-MODIFIED:20241206T085959Z
UID:23905-1733925600-1733931000@coface-eu.org
SUMMARY:Introducing the EU Guidance on Independent Living: Stakeholders' Initial Reactions
DESCRIPTION:Introducing the EU Guidance on Independent Living: Stakeholders’ Initial Reactions\nWednesday 11 December 2024 14h00 – 15h30 CET \nRegister here \nINTERPRETATION: English\, International Sign Language\, Speech to Text in English \nBackground\nThe European Commission has launched its Guidance on independent living and inclusion in the community of persons with disabilities in the context of EU funding. This Guidance is available in all EU languages here. It is the first time that the European Commission details its own understanding of independent living and how EU Funds can be used to foster the needed transformation of support. \nThe Guidance covers: \n\nThe EU’s practical understanding of independent living\nPolicy Orientations for the use of EU Funds\nTransforming principles to actions\nSupport from EU Funds\nMonitoring Progress\n\nIn response to the publication EASPD\, EDF\, Inclusion Europe\, ENIL\, COFACE Families Europe\, and Eurochild invite you to a jointly organised online webinar on 11 December at 14:00 CET. This will be the chance to learn more about the new European Commission Guidance on Independent Living and how it can help you in the transformation of support at national\, regional or local level. \nSpeakers\n\nAntonia Torrens\, COFACE Families Europe\nNadia Hadad\, European Disability Forum (EDF)\nInes Bulic\, European Network on Independent Living (ENIL)\nFrancesca Pisanu\, Eurochild\nLilith Alink\, European Association of Service providers for Persons with Disabilities (EASPD)\nMilan Šveřepa\, Inclusion Europe\n\nSee full programme here. \nRegister here \n  \n  \n 
URL:https://coface-eu.org/event/introducing-the-eu-guidance-on-independent-living-stakeholders-initial-reactions/
ATTACH;FMTTYPE=image/png:https://coface-eu.org/wp-content/uploads/2024/12/Visual-jointwebinar.png
END:VEVENT
END:VCALENDAR