BEGIN:VCALENDAR
VERSION:2.0
PRODID:-//COFACE Families Europe - ECPv6.15.20//NONSGML v1.0//EN
CALSCALE:GREGORIAN
METHOD:PUBLISH
X-ORIGINAL-URL:https://coface-eu.org
X-WR-CALDESC:Events for COFACE Families Europe
REFRESH-INTERVAL;VALUE=DURATION:PT1H
X-Robots-Tag:noindex
X-PUBLISHED-TTL:PT1H
BEGIN:VTIMEZONE
TZID:Europe/Brussels
BEGIN:DAYLIGHT
TZOFFSETFROM:+0100
TZOFFSETTO:+0200
TZNAME:CEST
DTSTART:20240331T010000
END:DAYLIGHT
BEGIN:STANDARD
TZOFFSETFROM:+0200
TZOFFSETTO:+0100
TZNAME:CET
DTSTART:20241027T010000
END:STANDARD
BEGIN:DAYLIGHT
TZOFFSETFROM:+0100
TZOFFSETTO:+0200
TZNAME:CEST
DTSTART:20250330T010000
END:DAYLIGHT
BEGIN:STANDARD
TZOFFSETFROM:+0200
TZOFFSETTO:+0100
TZNAME:CET
DTSTART:20251026T010000
END:STANDARD
BEGIN:DAYLIGHT
TZOFFSETFROM:+0100
TZOFFSETTO:+0200
TZNAME:CEST
DTSTART:20260329T010000
END:DAYLIGHT
BEGIN:STANDARD
TZOFFSETFROM:+0200
TZOFFSETTO:+0100
TZNAME:CET
DTSTART:20261025T010000
END:STANDARD
END:VTIMEZONE
BEGIN:VEVENT
DTSTART;TZID=Europe/Brussels:20250121T093000
DTEND;TZID=Europe/Brussels:20250121T123000
DTSTAMP:20260423T143125
CREATED:20241115T124826Z
LAST-MODIFIED:20250109T200252Z
UID:23766-1737451800-1737462600@coface-eu.org
SUMMARY:COFACE working group on work-life balance 
DESCRIPTION:COFACE working group on work-life balance \n21 January 2025 9.30-12.30 CET\nRegister here\n  \nObjective of the working group \nThe aim of this working group is to bring together COFACE members working on work-life balance matters and disability rights\, to kick-start a discussion on the work-life balance of parents and carers with disabilities. We will discuss relevant EU legislation\, and collect information on challenges and good practices. This is an internal meeting\, with some guest speakers. The working language of the meeting is English.\n  \nEU context \nThere are two pieces of legislation which are relevant for this discussion.  \nThe EU directive on the work-life balance of parents and carers\, and more specifically article 5.8 which states that “Member States shall assess the need for the conditions of access to and the detailed arrangements for the application of parental leave to be adapted to the needs of adoptive parents\, parents with a disability and parents with children with a disability or a long-term illness.”  \nThe Directive establishing a general framework for equal treatment in employment and occupation and more specifically Article 5 on Reasonable accommodation for disabled persons which states that “In order to guarantee compliance with the principle of equal treatment in relation to persons with disabilities\, reasonable accommodation shall be provided. This means that employers shall take appropriate measures\, where needed in a particular case\, to enable a person with a disability to have access to\, participate in\, or advance in employment\, or to undergo training\, unless such measures would impose a disproportionate burden on the employer. This burden shall not be disproportionate when it is sufficiently remedied by measures existing within the framework of the disability policy of the Member State concerned.” \nPlease note: This meeting is open to COFACE members only.\nFor further information\, contact secretariat@coface-eu.org \n________________________________________ \n 
URL:https://coface-eu.org/event/coface-working-group-on-work-life-balance/
ATTACH;FMTTYPE=image/png:https://coface-eu.org/wp-content/uploads/2023/09/European-Blue-Flag-by-NoName_13-from-pixabay.png
END:VEVENT
END:VCALENDAR