BEGIN:VCALENDAR
VERSION:2.0
PRODID:-//COFACE Families Europe - ECPv6.15.20//NONSGML v1.0//EN
CALSCALE:GREGORIAN
METHOD:PUBLISH
X-WR-CALNAME:COFACE Families Europe
X-ORIGINAL-URL:https://coface-eu.org
X-WR-CALDESC:Events for COFACE Families Europe
REFRESH-INTERVAL;VALUE=DURATION:PT1H
X-Robots-Tag:noindex
X-PUBLISHED-TTL:PT1H
BEGIN:VTIMEZONE
TZID:Europe/Brussels
BEGIN:DAYLIGHT
TZOFFSETFROM:+0100
TZOFFSETTO:+0200
TZNAME:CEST
DTSTART:20240331T010000
END:DAYLIGHT
BEGIN:STANDARD
TZOFFSETFROM:+0200
TZOFFSETTO:+0100
TZNAME:CET
DTSTART:20241027T010000
END:STANDARD
BEGIN:DAYLIGHT
TZOFFSETFROM:+0100
TZOFFSETTO:+0200
TZNAME:CEST
DTSTART:20250330T010000
END:DAYLIGHT
BEGIN:STANDARD
TZOFFSETFROM:+0200
TZOFFSETTO:+0100
TZNAME:CET
DTSTART:20251026T010000
END:STANDARD
BEGIN:DAYLIGHT
TZOFFSETFROM:+0100
TZOFFSETTO:+0200
TZNAME:CEST
DTSTART:20260329T010000
END:DAYLIGHT
BEGIN:STANDARD
TZOFFSETFROM:+0200
TZOFFSETTO:+0100
TZNAME:CET
DTSTART:20261025T010000
END:STANDARD
END:VTIMEZONE
BEGIN:VEVENT
DTSTART;TZID=Europe/Brussels:20250312T113000
DTEND;TZID=Europe/Brussels:20250312T123000
DTSTAMP:20260423T115808
CREATED:20250117T182850Z
LAST-MODIFIED:20250319T163816Z
UID:24098-1741779000-1741782600@coface-eu.org
SUMMARY:COFACE online exchange on blended families of today
DESCRIPTION:12th March 11.30-12.30\nThis exchange was organised for COFACE members to take stock of challenges for blended families. \n Blended families\, also known as stepfamilies or recomposed families\, are increasingly common across Europe due to rising rates of divorce\, remarriage\, and cohabitation. These families typically consist of a couple and their children from previous relationships.  \nBlended families in Europe reflect broader societal changes. While challenges persist\, increasing legal recognition and societal support are helping normalise and strengthen these family structures.  \nKeynote speakers\nAnnemie Drieskens\, Gezinsbond (Ligue of Families)\, Belgium Heidi Karvonen\, The Stepfamily Association of Finland (Supli)\nProfessor Angela Abela PhD Department of Child and Family Studies\, University of Malta \n  \nKey points discussed\n\nDefinition & Prevalence of Blended Families\nEmotional challenges of step families\nFinancial difficulties they face the reasons for this\nLegal gaps and policy recommendations\nSupport programmes in Finland\nInternational perspectives and research\n\n\nResources\n\nFamily Cabinet Flanders (Belgium): The Family Cabinet The Family Cabinet project focuses on the questions and needs of families in order to work with families to find solutions to current problems and bottlenecks that families are facing.\nStep Families of Finland: https://supli.fi/en/\nrEUsilience research which discusses the inadequacy of EU social surveys to capture family relations across households\n1st International Conference on blended families: 1st International Conference on Strong Blended Families: Understanding What Works – Newspoint – University of Malta\nHow are large families formed? Blood and step families with three or more children in Hungary
URL:https://coface-eu.org/event/coface-online-exchange-on-blended-families-of-today/
ATTACH;FMTTYPE=image/jpeg:https://coface-eu.org/wp-content/uploads/2021/11/Projects.jpg
END:VEVENT
END:VCALENDAR