BEGIN:VCALENDAR
VERSION:2.0
PRODID:-//COFACE Families Europe - ECPv6.15.20//NONSGML v1.0//EN
CALSCALE:GREGORIAN
METHOD:PUBLISH
X-WR-CALNAME:COFACE Families Europe
X-ORIGINAL-URL:https://coface-eu.org
X-WR-CALDESC:Events for COFACE Families Europe
REFRESH-INTERVAL;VALUE=DURATION:PT1H
X-Robots-Tag:noindex
X-PUBLISHED-TTL:PT1H
BEGIN:VTIMEZONE
TZID:Europe/Brussels
BEGIN:DAYLIGHT
TZOFFSETFROM:+0100
TZOFFSETTO:+0200
TZNAME:CEST
DTSTART:20240331T010000
END:DAYLIGHT
BEGIN:STANDARD
TZOFFSETFROM:+0200
TZOFFSETTO:+0100
TZNAME:CET
DTSTART:20241027T010000
END:STANDARD
BEGIN:DAYLIGHT
TZOFFSETFROM:+0100
TZOFFSETTO:+0200
TZNAME:CEST
DTSTART:20250330T010000
END:DAYLIGHT
BEGIN:STANDARD
TZOFFSETFROM:+0200
TZOFFSETTO:+0100
TZNAME:CET
DTSTART:20251026T010000
END:STANDARD
BEGIN:DAYLIGHT
TZOFFSETFROM:+0100
TZOFFSETTO:+0200
TZNAME:CEST
DTSTART:20260329T010000
END:DAYLIGHT
BEGIN:STANDARD
TZOFFSETFROM:+0200
TZOFFSETTO:+0100
TZNAME:CET
DTSTART:20261025T010000
END:STANDARD
END:VTIMEZONE
BEGIN:VEVENT
DTSTART;TZID=Europe/Brussels:20251007T130000
DTEND;TZID=Europe/Brussels:20251007T143000
DTSTAMP:20260419T150623
CREATED:20250910T124355Z
LAST-MODIFIED:20251007T102233Z
UID:25565-1759842000-1759847400@coface-eu.org
SUMMARY:COFACE Disability platform - online exchange
DESCRIPTION:On 7th October from 13.00-14.30\, we will hold an online meeting of the COFACE Disability platform to consult family carers on two matters: \n\nLearning resources for family carers\nInclusive education practices across Europe\n\n\nThe aim of this exchange is to bring together COFACE members to kick-start a discussion on the development of a European educational resource designed for informal carers of persons with disabilities\, and to discuss actions to promote inclusive education at the European level. The objective of the discussion is to gather members’ views\, provide a platform for sharing experiences\, and better understand the situation across different countries. This is an internal meeting open to COFACE members only. \nThe working language of the meeting is English.  \nYou can register here. We hope to see you on 7th October! \n  \n 
URL:https://coface-eu.org/event/coface-disability-platform-online-exchange/
ATTACH;FMTTYPE=image/png:https://coface-eu.org/wp-content/uploads/2021/10/Logo-COFACE-Disability.png
END:VEVENT
BEGIN:VEVENT
DTSTART;TZID=Europe/Brussels:20251008T093000
DTEND;TZID=Europe/Brussels:20251008T110000
DTSTAMP:20260419T150623
CREATED:20250826T075705Z
LAST-MODIFIED:20251008T105957Z
UID:25495-1759915800-1759921200@coface-eu.org
SUMMARY:Breakfast Bytes webinar: Family Education to Prevent Child Sexual Abuse
DESCRIPTION:Date: 8 October 2025\, 9.30-11.00 CET \nSpeakers:   \n\nSilvija Stanic\, Parents Association Step by Step\, Croatia\nElli Kaplani\, KMOP\, Greece\n\nDescription: \nThe aim of this breakfast byte was to share existing tools and resources on preventing child sexual abuse\, especially for parents and guardians\, but also professionals and children themselves. During the webinar we touched upon good practices and challenges to support families in preventing child sexual abuse. The work of two COFACE members was spotlighted\, but the aim was to also gather examples and expertise from other organisations and experts. Every child has a right to grow in a safe environment and enjoy the best possible health\, which includes well-balanced sexual health. To acquire well-balanced sexual health\, children need evidence-based sexual education already from early childhood. Sexual education that is started early supports the child’s development and provides the child with information and skills to better protect themselves and other children. Increasing knowledge of children\, as well as parents and professionals\, can help prevent child sexual abuse. Two organisations came together in this webinar\, to spotlight their work to build trainings and tools to prevent child sexual abuse. \nStep by Step Parents Association in Croatia promotes the rights of children and their families through different programmes. One of those programmes is the Child Assault Prevention Programme (CAP Programme). The CAP programme exists already for 25 years in Croatia and it equips children with effective prevention strategies to reduce their vulnerability and exposure to various forms of violence. Additionally\, it ensures better support for parents\, guardians\, and educators. The programme has several variants that are intended for children of different ages and needs: preschool\, kindergarten\, teenagers\, and children with disabilities. See full presentation here. \nKMOP\, the Social Action and Innovation Centre in Greece has extensive experience in education\, research\, policy and social action. They partnered in a project of the European Union Internal Security Fund (ISF) called “Child Sexual Abuse Prevention and Education” (CSAPE 2022-2024). As part of the project\, they conducted a survey to map the attitudes and practices of children and youth concerning their online behaviour\, ability to recognise potentially dangerous situations online\, and awareness of available reporting and support mechanisms in case of online abuse in their respective countries. One of the resources developed by the project is a Guide for parents and guardians about Child sexual education. See full presentation here. \nFurther information \nCAP in general – URKPK. Resource of Parents Association Step by Step\, Croatia\nCSAPE – Child Sexual Abuse Prevention and Education. Resource of KMOP\, Greece\nPrevention of violence specifically in (amateur) sport clubs. Resource of Defence for Children International\nYou are not alone.  Programme in Finland run by Vaestoliitto (Family Federation of Finland)\nComment protéger les enfants dans votre structure sportive. Resources developed by PARCS 2.0\nEuropean Commission launches new network for Prevention of Child Sexual Abuse\nEU Strategy for a more effective fight against child sexual abuse\nCOFACE is proud member of ECLAG – a European coalition working to end child sexual abuse online\nGet the facts about grooming and Warning signs to watch for. Resources developed by RAINN\nHow to recognise child grooming signs. Resource developed by  Raising Children\, Australia\nThe Real red flags of grooming. Resource of the National Children’s Alliance\, USA \n_____________________________________ \nTerminology \nChild sexual abuse: Any act\, by an adult or a person significantly older than the child\, that violates a child’s right to sexual self-determination or any attempt of such act. Child sexual abuse includes e.g.\, engaging in sexual activities with a child\, causing a child to witness sexual activities or sexual abuse\, and coercing\, forcing\, or threatening a child into sexual activities with a third party. \nChild sexual abuse material: Any photo/video material that depicts a child engaging in sexual conduct (with or without an adult) and material with a focus on the genital/anal region of the child. \nGrooming (solicitation of a child for sexual purposes): An adult approaching a child online or offline\, with the goal to abuse the child sexually. Grooming can include the following (Note! All of these are also considered child sexual abuse): \n\nCommunicating with a child in a sexualised way\nCommenting on the child’s image or body with sexual connotations\nAsking a child for a nude/intimate photo of themselves\nSending nude/intimate or pornographic material to a child\nGetting a child to act in a sexual way in front of a camera\nGetting a child to agree to meet online or offline
URL:https://coface-eu.org/event/breakfast-bytes-webinar-family-education-to-prevent-child-sexual-abuse/
LOCATION:Online on Zoom
ATTACH;FMTTYPE=image/png:https://coface-eu.org/wp-content/uploads/2025/03/Breakfast-Bytes.png
END:VEVENT
END:VCALENDAR